BEGIN:VCALENDAR
VERSION:2.0
PRODID:icalendar-ruby
CALSCALE:GREGORIAN
METHOD:PUBLISH
BEGIN:VEVENT
DTSTAMP:20260424T101942Z
UID:9-1498062@rejoicefellowship.tithelysetup5.com
DTSTART:20261031T140000Z
DTEND:20261031T160000Z
CLASS:PUBLIC
CREATED:20260423T221745
DESCRIPTION:Join the crafters as we work on our various projects! Bring wha
 tever your crafting.
LAST-MODIFIED:20260423T221745
LOCATION:Rejoice Fellowship Conference Room
SUMMARY:Knitting Club - Every Saturday!
URL;VALUE=URI:https://www.rejoiceelca.org/events/knitting-club-every-saturd
 ay/2026-10-31
ATTACH;FILENAME=Copy of Untitled Design (22).png;FMTTYPE=image/png:https://
 dq5pwpg1q8ru0.cloudfront.net/2026/02/12/01/31/13/71b1ff19-bee7-417b-8d43-f
 1ade83b4f01/Copy%20of%20Untitled%20Design%20(22).png
END:VEVENT
END:VCALENDAR
