BEGIN:VCALENDAR
VERSION:2.0
PRODID:icalendar-ruby
CALSCALE:GREGORIAN
METHOD:PUBLISH
BEGIN:VEVENT
DTSTAMP:20260422T134932Z
UID:36-1488223@rejoicefellowship.tithelysetup5.com
DTSTART:20260929T230000Z
DTEND:20260930T000000Z
CLASS:PUBLIC
CREATED:20260422T074443
DESCRIPTION:
LAST-MODIFIED:20260422T074443
LOCATION:Rejoice Fellowship
SUMMARY:N.A.
URL;VALUE=URI:https://www.rejoiceelca.org/events/n-a/2026-09-29
ATTACH;FILENAME=NA Logo.jpg;FMTTYPE=image/jpeg:https://dq5pwpg1q8ru0.cloudf
 ront.net/2025/04/18/17/11/16/fdb210e1-7aff-4e41-81fe-66f85bb6e108/NA%20Log
 o.jpg
END:VEVENT
END:VCALENDAR
